0.250000
0.000000
0.000000
-0.250000
641220.125000
4746199.875000
