0.250000
0.000000
0.000000
-0.250000
654530.125000
4760379.875000
