0.250000
0.000000
0.000000
-0.250000
664720.125000
4760619.875000
