0.250000
0.000000
0.000000
-0.250000
651180.125000
4757989.875000
