0.250000
0.000000
0.000000
-0.250000
661370.125000
4758219.875000
