0.250000
0.000000
0.000000
-0.250000
647880.125000
4753279.875000
