0.250000
0.000000
0.000000
-0.250000
654730.125000
4751119.875000
