0.250000
0.000000
0.000000
-0.250000
658190.125000
4748889.875000
