0.250000
0.000000
0.000000
-0.250000
665000.125000
4749049.875000
