0.250000
0.000000
0.000000
-0.250000
654840.125000
4746499.875000
