0.250000
0.000000
0.000000
-0.250000
671860.125000
4746909.875000
