0.250000
0.000000
0.000000
-0.250000
681770.125000
4758739.875000
