0.250000
0.000000
0.000000
-0.250000
675210.125000
4749309.875000
