0.250000
0.000000
0.000000
-0.250000
576570.125000
4742829.875000
