0.250000
0.000000
0.000000
-0.250000
576590.125000
4740509.875000
