0.250000
0.000000
0.000000
-0.250000
590310.125000
4733739.875000
