0.250000
0.000000
0.000000
-0.250000
580110.125000
4731299.875000
