0.250000
0.000000
0.000000
-0.250000
586960.125000
4729069.875000
