0.250000
0.000000
0.000000
-0.250000
566510.125000
4726519.875000
