0.250000
0.000000
0.000000
-0.250000
576750.125000
4726629.875000
