0.250000
0.000000
0.000000
-0.250000
590400.125000
4726799.875000
