0.250000
0.000000
0.000000
-0.250000
597000.125000
4743089.875000
