0.250000
0.000000
0.000000
-0.250000
610620.125000
4743309.875000
