0.250000
0.000000
0.000000
-0.250000
607250.125000
4740939.875000
