0.250000
0.000000
0.000000
-0.250000
593660.125000
4738419.875000
