0.250000
0.000000
0.000000
-0.250000
607290.125000
4738619.875000
