0.250000
0.000000
0.000000
-0.250000
610770.125000
4734049.875000
