0.250000
0.000000
0.000000
-0.250000
614250.125000
4729479.875000
