0.250000
0.000000
0.000000
-0.250000
593810.125000
4726849.875000
