0.250000
0.000000
0.000000
-0.250000
617710.125000
4727229.875000
