0.250000
0.000000
0.000000
-0.250000
627650.125000
4743609.875000
