0.250000
0.000000
0.000000
-0.250000
641270.125000
4743879.875000
