0.250000
0.000000
0.000000
-0.250000
644670.125000
4743959.875000
