0.250000
0.000000
0.000000
-0.250000
634500.125000
4741429.875000
