0.250000
0.000000
0.000000
-0.250000
627730.125000
4738979.875000
