0.250000
0.000000
0.000000
-0.250000
634550.125000
4739119.875000
