0.250000
0.000000
0.000000
-0.250000
627780.125000
4736669.875000
