0.250000
0.000000
0.000000
-0.250000
644820.125000
4737009.875000
