0.250000
0.000000
0.000000
-0.250000
624410.125000
4734289.875000
