0.250000
0.000000
0.000000
-0.250000
644870.125000
4734699.875000
