0.250000
0.000000
0.000000
-0.250000
638090.125000
4732239.875000
