0.250000
0.000000
0.000000
-0.250000
641510.125000
4732319.875000
