0.250000
0.000000
0.000000
-0.250000
634730.125000
4729859.875000
