0.250000
0.000000
0.000000
-0.250000
624530.125000
4727349.875000
