0.250000
0.000000
0.000000
-0.250000
651480.125000
4744109.875000
