0.250000
0.000000
0.000000
-0.250000
658300.125000
4744259.875000
