0.250000
0.000000
0.000000
-0.250000
661700.125000
4744339.875000
