0.250000
0.000000
0.000000
-0.250000
654940.125000
4741869.875000
