0.250000
0.000000
0.000000
-0.250000
665160.125000
4742109.875000
