0.250000
0.000000
0.000000
-0.250000
651690.125000
4734849.875000
